BEGIN:VCALENDAR
VERSION:2.0
PRODID:-//Turistička zajednica Metković - ECPv6.10.2//NONSGML v1.0//EN
CALSCALE:GREGORIAN
METHOD:PUBLISH
X-WR-CALNAME:Turistička zajednica Metković
X-ORIGINAL-URL:https://tzmetkovic.hr
X-WR-CALDESC:Events for Turistička zajednica Metković
REFRESH-INTERVAL;VALUE=DURATION:PT1H
X-Robots-Tag:noindex
X-PUBLISHED-TTL:PT1H
BEGIN:VTIMEZONE
TZID:UTC
BEGIN:STANDARD
TZOFFSETFROM:+0000
TZOFFSETTO:+0000
TZNAME:UTC
DTSTART:20250101T000000
END:STANDARD
END:VTIMEZONE
BEGIN:VEVENT
DTSTART;TZID=UTC:20250428T163000
DTEND;TZID=UTC:20250428T183000
DTSTAMP:20260425T010748
CREATED:20250315T100349Z
LAST-MODIFIED:20251001T100634Z
UID:10412-1745857800-1745865000@tzmetkovic.hr
SUMMARY:BESPLATNA EDUKACIJA ZA IZNAJMLJIVAČE
DESCRIPTION:BESPLATNA EDUKACIJA ZA IZNAJMLJIVAČE ✨\nPozivamo sve iznajmljivače apartmana\, vila i kuća za odmor na besplatnu edukaciju u Metkoviću 28.04.2025. s početkom 16:30h naadresi:  Ulica Stjepana Radića 1 (u Gradskom kulturnom središtu Metković)\,koju organizira TZ Grada Metkovića i @Adriagate\nIznajmljivaci!\nSaznajte kako poboljšati popunjenost smještaja\, optimizirati cijene i prilagoditi ponudu prema najnovijim trendovima.\n28.04.2025. (ponedjeljak)\, 16:30 h – Ulica Stjepana Radića 1 (u Gradskom kulturnom središtu Metković) Sudjelovanje je besplatno\, ali broj mjesta je ograničen! Prijavite se na vrijeme putem linka:  https://forms.gle/Wr1wJfDGWBK6yzHf9\n Ne propustite priliku da unaprijedite svoje poslovanje i pripremite se za sezonu 2025.!
URL:https://tzmetkovic.hr/event/besplatna-edukacija-za-iznajmljivace/
ATTACH;FMTTYPE=image/jpeg:https://tzmetkovic.hr/wp-content/uploads/2025/10/EDUKACIJA.jpg
END:VEVENT
END:VCALENDAR