BEGIN:VCALENDAR
VERSION:2.0
PRODID:-//Turistička zajednica Metković - ECPv6.10.2//NONSGML v1.0//EN
CALSCALE:GREGORIAN
METHOD:PUBLISH
X-WR-CALNAME:Turistička zajednica Metković
X-ORIGINAL-URL:https://tzmetkovic.hr
X-WR-CALDESC:Events for Turistička zajednica Metković
REFRESH-INTERVAL;VALUE=DURATION:PT1H
X-Robots-Tag:noindex
X-PUBLISHED-TTL:PT1H
BEGIN:VTIMEZONE
TZID:UTC
BEGIN:STANDARD
TZOFFSETFROM:+0000
TZOFFSETTO:+0000
TZNAME:UTC
DTSTART:20250101T000000
END:STANDARD
END:VTIMEZONE
BEGIN:VEVENT
DTSTART;VALUE=DATE:20250528
DTEND;VALUE=DATE:20250602
DTSTAMP:20260424T230410
CREATED:20250515T095330Z
LAST-MODIFIED:20251001T095826Z
UID:10406-1748390400-1748822399@tzmetkovic.hr
SUMMARY:40. Smotra folklora jadranske Hrvatske ‘Na Neretvu misečina pala’
DESCRIPTION:
URL:https://tzmetkovic.hr/event/40-smotra-folklora-jadranske-hrvatske-na-neretvu-misecina-pala/
ATTACH;FMTTYPE=image/jpeg:https://tzmetkovic.hr/wp-content/uploads/2025/10/Smotra-2025.jpg
END:VEVENT
BEGIN:VEVENT
DTSTART;VALUE=DATE:20250601
DTEND;VALUE=DATE:20250602
DTSTAMP:20260424T230410
CREATED:20250528T085956Z
LAST-MODIFIED:20251001T100155Z
UID:10409-1748736000-1748822399@tzmetkovic.hr
SUMMARY:Primavera
DESCRIPTION:U nedjelju\, 1. lipnja\, održava se još jedno izdanje rekreativne biciklističke manifestacije „Primavera“\, koja svake godine okuplja zaljubljenike u prirodu\, biciklizam i dobru zabavu. Prijave su otvorene još samo danas\, stoga ne propustite priliku za sudjelovanje u ovom događaju na svježem zraku i u odličnoj atmosferi! \nPolazak i okupljanje \nOkupljanje sudionika predviđeno je ispred Sportske dvorane (Caffe bar No Limit) s početkom u 10:00 sati\, odakle kreće organizirana biciklistička ruta do Momića. Cijeli dan osmišljen je kao kombinacija rekreacije\, druženja i uživanja u prirodnim ljepotama doline Neretve. \nSudionike očekuje raznolik i zanimljiv program: \nBicikliranje do Momića\nIzlet tradicionalnom neretvanskom lađom do atraktivne lokacije\nUkusan zajednički ručak\nZabavne igre za djecu i odrasle\nDodjela medalja svim sudionicima\nOrganizirani povratak\nManifestacija s naglaskom na žene \n„Biciklijada Primavera“ prvenstveno je osmišljena kao događaj s posebnim naglaskom na žene i njihovu aktivnu uključenost u sportske aktivnosti\, no muška pratnja i obiteljski dolasci su itekako dobrodošli. Cilj je okupiti sve generacije u pozitivnom ozračju\, promovirati zdrav način života te uživati u zajedničkom vremenu. \nPotpora zajednice \nManifestaciju podržavaju Dubrovačko-neretvanska županija\, Grad Metković\, Turistička zajednica Dubrovačko-neretvanske županije te Turistička zajednica Grada Metkovića. \nPrijavite se odmah! \nZainteresirani se mogu prijaviti putem službenog obrasca na poveznici:\nhttps://www.primavera.bk-relaks.hr/prijavnica-primavera…/ \nNe propustite dan pun aktivnosti\, zabave i druženja – vidimo se na Primaveri!
URL:https://tzmetkovic.hr/event/primavera/
ATTACH;FMTTYPE=image/jpeg:https://tzmetkovic.hr/wp-content/uploads/2025/10/primavera_display_2025.jpg
END:VEVENT
END:VCALENDAR