BEGIN:VCALENDAR
VERSION:2.0
PRODID:-//Turistička zajednica Metković - ECPv6.10.2//NONSGML v1.0//EN
CALSCALE:GREGORIAN
METHOD:PUBLISH
X-WR-CALNAME:Turistička zajednica Metković
X-ORIGINAL-URL:https://tzmetkovic.hr
X-WR-CALDESC:Events for Turistička zajednica Metković
REFRESH-INTERVAL;VALUE=DURATION:PT1H
X-Robots-Tag:noindex
X-PUBLISHED-TTL:PT1H
BEGIN:VTIMEZONE
TZID:UTC
BEGIN:STANDARD
TZOFFSETFROM:+0000
TZOFFSETTO:+0000
TZNAME:UTC
DTSTART:20250101T000000
END:STANDARD
END:VTIMEZONE
BEGIN:VEVENT
DTSTART;TZID=UTC:20250807T080000
DTEND;TZID=UTC:20250809T233000
DTSTAMP:20260424T192510
CREATED:20250801T093316Z
LAST-MODIFIED:20251001T093711Z
UID:10389-1754553600-1754782200@tzmetkovic.hr
SUMMARY:DANI NERETVANSKE KNEŽEVINE
DESCRIPTION:Dani Neretvanske kneževine 2025. u Metkoviću!\n7. – 9. kolovoza\nGradski park / Velika riva\nTri dana povijesti\, viteških borbi\, srednjovjekovnih igara\, lađa i tradicije u srcu doline Neretve!\nČetvrtak: viteške igre i spektakl s vitezovima\nPetak: Festival tradicija – Večer Ličko-senjske županije\nZabavlja nas Tamburaški sastav Velebit i klapa Senjkinje\, Lovački savez LSŽ kuha kotlić\, a obrti i OPG-ovi donose svoje proizvode!\nSubota: Sajam\, start 28. Maratona lađa & Jerkovačka fešta\nDoživite prošlost na neretvanski način! ⚔️‍♂️
URL:https://tzmetkovic.hr/event/10389/
ATTACH;FMTTYPE=image/jpeg:https://tzmetkovic.hr/wp-content/uploads/2025/10/KNEZEVINA-2025.jpg
END:VEVENT
END:VCALENDAR