BEGIN:VCALENDAR
VERSION:2.0
PRODID:-//Turistička zajednica Metković - ECPv6.10.2//NONSGML v1.0//EN
CALSCALE:GREGORIAN
METHOD:PUBLISH
X-WR-CALNAME:Turistička zajednica Metković
X-ORIGINAL-URL:https://tzmetkovic.hr
X-WR-CALDESC:Events for Turistička zajednica Metković
REFRESH-INTERVAL;VALUE=DURATION:PT1H
X-Robots-Tag:noindex
X-PUBLISHED-TTL:PT1H
BEGIN:VTIMEZONE
TZID:UTC
BEGIN:STANDARD
TZOFFSETFROM:+0000
TZOFFSETTO:+0000
TZNAME:UTC
DTSTART:20250101T000000
END:STANDARD
END:VTIMEZONE
BEGIN:VEVENT
DTSTART;VALUE=DATE:20251001
DTEND;VALUE=DATE:20251002
DTSTAMP:20260424T154856
CREATED:20250923T114328Z
LAST-MODIFIED:20251001T114800Z
UID:10457-1759276800-1759363199@tzmetkovic.hr
SUMMARY:Plan upravljanja - radionica
DESCRIPTION:Turistička zajednica grada Metkovića poziva sve hotelijere\, ugostitelje\, privatne iznajmljivače\, turističke agencije\, poduzetnike u turizmu\, neprofitne organizacije te zainteresirane stanovnike s područja grada Metkovića na 1. radionicu vezanu uz izradu Plana upravljanja destinacijom.\nRadionica će se održati 1. listopada.2025. godine (srijeda)\, u Galeriji Gradskog kulturnog središta s početkom u 17 sati.\nCilj radionice je upoznati ključne dionike s Planom upravljanja destinacijom – strateškim\ndokumentom koji se izrađuje s ciljem razvoja održive turističke destinacije.\nKroz zajednički rad\, razmjenu mišljenja\, vizija i iskustava\, sudionici će imati priliku izravno\nsudjelovati u kreiranju mjera i aktivnosti koje će:\n povećati zadovoljstvo turista\,\n unaprijediti kvalitetu života lokalne zajednice\,\n osnažiti ulogu privatnog i javnog sektora u razvoju destinacije.\n\n\nMolimo Vas da potvrdite svoj dolazak najkasnije do 29. rujna ispunjavanjem obrasca na\nsljedećem linku: https://forms.gle/Ey36QgUFEJeWvaP1A \n\n\n\n\n\n\nRadujemo se Vašem dolasku i zajedničkom oblikovanju održive budućnosti turizma u\ngradu Metkoviću!\n\n  \n 
URL:https://tzmetkovic.hr/event/plan-upravljanja-radionica/
ATTACH;FMTTYPE=image/jpeg:https://tzmetkovic.hr/wp-content/uploads/2024/06/Kapela-sv.-Ante-Padovanskog-s-pocetka-20.-stoljeca-foto-Ustanova-za-kulturu-i-sport-Metkovic-105.jpg
END:VEVENT
END:VCALENDAR