BEGIN:VCALENDAR
VERSION:2.0
PRODID:-//Turistička zajednica Metković - ECPv6.10.2//NONSGML v1.0//EN
CALSCALE:GREGORIAN
METHOD:PUBLISH
X-ORIGINAL-URL:https://tzmetkovic.hr
X-WR-CALDESC:Events for Turistička zajednica Metković
REFRESH-INTERVAL;VALUE=DURATION:PT1H
X-Robots-Tag:noindex
X-PUBLISHED-TTL:PT1H
BEGIN:VTIMEZONE
TZID:UTC
BEGIN:STANDARD
TZOFFSETFROM:+0000
TZOFFSETTO:+0000
TZNAME:UTC
DTSTART:20260101T000000
END:STANDARD
END:VTIMEZONE
BEGIN:VEVENT
DTSTART;TZID=UTC:20260330T160000
DTEND;TZID=UTC:20260330T180000
DTSTAMP:20260422T223107
CREATED:20260325T125332Z
LAST-MODIFIED:20260401T125519Z
UID:10564-1774886400-1774893600@tzmetkovic.hr
SUMMARY:Uskršnji zeko ponovno stiže u Gradski park u Metkoviću!
DESCRIPTION:Uskršnji zeko ponovno stiže u Gradski park u Metkoviću!\n\n\nU ponedjeljak\, 30. ožujka u 16 sati očekuje vas veselo druženje za najmlađe – uz ples\, igru i potragu za čokoladnim pisanicama skrivenima po parku. \n\n\nPovedite svoje mališane i pridružite nam se u zabavi na otvorenom!\n\n\nVidimo se u parku!
URL:https://tzmetkovic.hr/event/uskrsnji-zeko-ponovno-stize-u-gradski-park-u-metkovicu/
ATTACH;FMTTYPE=image/jpeg:https://tzmetkovic.hr/wp-content/uploads/2026/04/Uskrsnji-zeko-u-POTRAZI-ZA-COKOLADNIM-PISANICAMA.jpg
END:VEVENT
BEGIN:VEVENT
DTSTART;TZID=UTC:20260408T170000
DTEND;TZID=UTC:20260408T190000
DTSTAMP:20260422T223107
CREATED:20260331T125908Z
LAST-MODIFIED:20260331T125908Z
UID:10545-1775667600-1775674800@tzmetkovic.hr
SUMMARY:Edukacija za Male iznajmljivače
DESCRIPTION:Turistička zajednica Grada Metkovića u suradnji sa Savjetovalištem za obiteljski smještaj Interligo d.o.o. organizira \nEDUKACIJU ZA MALE IZNAJMLJIVAČE : Više profita manje stresa \nPozivamo vas da nam se pridružite u srijedu\, 08.04.2026.\, u  galeriji Gradskog kulturnog središta s početkom u 17:00 sati. \nNa edukaciji ćete naučiti kako: \n\nizbjeći najčešće greške u privatnom smještaju\nriješiti papire i poreze bez stresa (administracija\, novosti\, izmjene\, računi\, e-račun\, PDV u privatnom smještaju)\n\nTrajanje edukacije: 2 školska sata \n+ odgovori na pitanja iznajmljivača \nUlaz je slobodan
URL:https://tzmetkovic.hr/event/edukacija-za-male-iznajmljivace/
LOCATION:GKS\, Stjepana Radića 1\, Metković\, 20350
ATTACH;FMTTYPE=image/jpeg:https://tzmetkovic.hr/wp-content/uploads/2025/10/metkovic-2018-001.jpg
END:VEVENT
END:VCALENDAR