BEGIN:VCALENDAR
VERSION:2.0
PRODID:-//Turistička zajednica Metković - ECPv6.10.2//NONSGML v1.0//EN
CALSCALE:GREGORIAN
METHOD:PUBLISH
X-WR-CALNAME:Turistička zajednica Metković
X-ORIGINAL-URL:https://tzmetkovic.hr
X-WR-CALDESC:Events for Turistička zajednica Metković
REFRESH-INTERVAL;VALUE=DURATION:PT1H
X-Robots-Tag:noindex
X-PUBLISHED-TTL:PT1H
BEGIN:VTIMEZONE
TZID:UTC
BEGIN:STANDARD
TZOFFSETFROM:+0000
TZOFFSETTO:+0000
TZNAME:UTC
DTSTART:20230101T000000
END:STANDARD
END:VTIMEZONE
BEGIN:VEVENT
DTSTART;VALUE=DATE:20241213
DTEND;VALUE=DATE:20241214
DTSTAMP:20260423T114606
CREATED:20241208T111256Z
LAST-MODIFIED:20251001T111417Z
UID:10444-1734048000-1734134399@tzmetkovic.hr
SUMMARY:Advent Metković - Alan Hržica
DESCRIPTION:U sklopu programa manifestacije ‘Advent Metković’ u Gradskome parku će u petak\, 13. prosinca s početkom u 20 sati koncert održati Alan Hržica.\nPoznat po svojim pjesmama koje nadahnjuju\, možemo očekivati večer ispunjenu glazbom\, zajedništvom i duhovnom snagom. Sa svojim bendom\, Alan Hržica odvest će nas u svijet popularne duhovne glazbe i time uljepšati predstojeće božićno razdoblje.
URL:https://tzmetkovic.hr/event/advent-metkovic-alan-hrzica/
LOCATION:GRADSKI PARK\, Gradski park\, Metković\, 20350
ATTACH;FMTTYPE=image/jpeg:https://tzmetkovic.hr/wp-content/uploads/2025/10/objava_alan_hrzica.jpg
END:VEVENT
BEGIN:VEVENT
DTSTART;VALUE=DATE:20241206
DTEND;VALUE=DATE:20250105
DTSTAMP:20260423T114606
CREATED:20241201T111431Z
LAST-MODIFIED:20251001T111721Z
UID:10447-1733443200-1736035199@tzmetkovic.hr
SUMMARY:Advent Metković
DESCRIPTION:Sve je spremno za pravu božićnu bajku koja u petak započinje u Gradskome parku u Metkoviću. Naime\, u petak\, 6. prosinca s radom započinju božićne kućice\, a otvara se i klizalište. \nBožićno-novogodišnji ukrasi\, bogata ugostiteljska ponuda hrane i pića\, raznolik program i atraktivno klizalište tako će i ove godine doprinijeti da Gradski park bude jedna od najomiljenijih lokacija na kojima se odvija manifestacija ‘Advent Metković’. \nVeć na sam dan otvorenja posjetitelje očekuje prava zabava\, a počinje od 14:30 kada se otvaraju božićne kućice i klizalište. Radno vrijeme klizališta bit će do 22:00 sata\, prvo klizanje u danu počinje u 15 sati\, a zadnje u 21 sat. Najam klizaljki za djecu do 14 godina je 2\,00 €\, a za odrasle – 3\,00 €. Ulaznice nije moguće rezervirati već ih je potrebno kupiti na blagajni koja je smještena uz samo klizalište. U klizalište se ulazi na puni sat\, a klizanje traje 40 minuta. Klizalište će raditi do 5. siječnja\, dokada su ove godine otvorene i božićne kućice. Fritule\, kobasice\, kuhano vino samo su dio onoga što ćete moći kušati na kućicama. Radno vrijeme kućica je do ponoć! \nU periodu od 6. prosinca pa do 5. siječnja u parku će se održavati različiti koncerti i programi. Na dan otvorenja\, u Gradski park u 15:30 stiže sv. Nikola koji će najmlađe obradovati s poklonima. Od 20 sati zabavljat će nas Giuliano. Očekuje nas nezaboravna atmosfera uz hitove koji su obilježili domaću glazbenu scenu! ‘Jugo’\, ‘Srna i vuk’\, ‘Dobro mi došla ljubavi’ samo su dio repertoara koji nam jamči večer ispunjenu emocijama\, plesom i nezaboravnom glazbom. \nU subotu\, 7. prosinca će koncert održati Hypnotic Band\, a tijekom manifestacije očekuju nas i koncerti legendarnoga Atomskoga skloništa\, Klape ‘Iskon’\, Alana Hržice\, Elvisa Sršena te grupa Imagine\, Jexy i Pacific Bullets. \nProgram manifestacije ‘Advent Metković’ ovoga se vikenda održava i u Gradskome kulturnom središtu. U subotu\, 7. prosinca u 17 sati na rasporedu je bajkovita predstava za djecu ‘Kako je vilenjak spasio Božić 2 – Slučaj: Izgubljena pahulja’\, a ulaz je slobodan. U 20 sati na rasporedu je hit predstava ‘Džaba je najskuplje’ u kojoj uloge tumače Faris Pinjo i Konstantin Haag. U nedjelju\, 8. prosinca u 19 sati publika će moći uživati u koncertu Mandolinskoga orkestra KUD-a Metković. \nPopis svih događaja s točnom satnicom i informacije o Adventu u Metkoviću možete pratiti na stranici www.adventmetkovic.eu te na Facebook i Instagram stranicama Advent Metković. \nOrganizatori manifestacije Advent Metković 2024. su Grad Metković\, Ustanova za kulturu i sport Metković i Turistička zajednica grada Metkovića te ustanove i udruge s područja grada Metkovića.
URL:https://tzmetkovic.hr/event/advent-metkovic/
ATTACH;FMTTYPE=image/jpeg:https://tzmetkovic.hr/wp-content/uploads/2025/10/Advent-2024.jpg
END:VEVENT
BEGIN:VEVENT
DTSTART;VALUE=DATE:20241201
DTEND;VALUE=DATE:20250106
DTSTAMP:20260423T114606
CREATED:20241118T111846Z
LAST-MODIFIED:20251001T112011Z
UID:10450-1733011200-1736121599@tzmetkovic.hr
SUMMARY:Advent Metković 2024.
DESCRIPTION:U nedjelju\, 1. prosinca započinje manifestacija Advent Metković koja će trajati do 5. siječnja 2025.\nPopis svih događaja s točnom satnicom pogledajte na plakatu\, a sve informacije o Adventu u Metkoviću pratite na stranici www.adventmetkovic.eu\, koja će se u slučaju izmjena redovito ažurirati te na Facebook i Instagram stranicama Advent Metković.\nOrganizatori manifestacije Advent Metković 2024. su Grad Metković\, Ustanova za kulturu i sport Metković i Turistička zajednica grada Metkovića te ustanove i udruge s područja grada.\nBlagoslovom adventskog vijenca i paljenjem lampica na božićnoj jelci u nedjelju\, 1. prosinca na Trgu kralja Tomislava započinje ovogodišnja manifestacija Advent Metković.
URL:https://tzmetkovic.hr/event/advent-metkovic-2024/
ATTACH;FMTTYPE=image/jpeg:https://tzmetkovic.hr/wp-content/uploads/2025/10/ADVENT-PLAKAT-2024.jpg
END:VEVENT
BEGIN:VEVENT
DTSTART;VALUE=DATE:20240916
DTEND;VALUE=DATE:20240923
DTSTAMP:20260423T114606
CREATED:20250901T112314Z
LAST-MODIFIED:20251001T112731Z
UID:10453-1726444800-1727049599@tzmetkovic.hr
SUMMARY:Svjetsko prvenstvo u kajak kanu maratonu
DESCRIPTION:Svjetsko prvenstvo u kajak – kanu maratonu se ove godine održava u Metkoviću. Program počinje u ponedjeljak\, 16.rujna i traje sve do nedjelje\, 22.rujna. Više o samom prvenstvu možete pronaći na stranici: www.wchmetkovic24.com
URL:https://tzmetkovic.hr/event/svjetsko-prvenstvo-u-kajak-kanu-maratonu/
ATTACH;FMTTYPE=image/jpeg:https://tzmetkovic.hr/wp-content/uploads/2025/10/Svjetsko-2024.jpg
END:VEVENT
BEGIN:VEVENT
DTSTART;VALUE=DATE:20240718
DTEND;VALUE=DATE:20240719
DTSTAMP:20260423T114606
CREATED:20240715T124953Z
LAST-MODIFIED:20240715T125254Z
UID:10322-1721260800-1721347199@tzmetkovic.hr
SUMMARY:JOLE
DESCRIPTION:
URL:https://tzmetkovic.hr/event/jole/
CATEGORIES:TZMTK
ATTACH;FMTTYPE=image/jpeg:https://tzmetkovic.hr/wp-content/uploads/2024/07/Jole_Dan-Grada-scaled.jpg
END:VEVENT
BEGIN:VEVENT
DTSTART;VALUE=DATE:20240715
DTEND;VALUE=DATE:20240821
DTSTAMP:20260423T114606
CREATED:20240715T125204Z
LAST-MODIFIED:20240715T125204Z
UID:10330-1721001600-1724198399@tzmetkovic.hr
SUMMARY:METKOVSKO LJETO
DESCRIPTION:
URL:https://tzmetkovic.hr/event/metkovsko-ljeto/
CATEGORIES:TZMTK
ATTACH;FMTTYPE=image/jpeg:https://tzmetkovic.hr/wp-content/uploads/2024/07/Metkovsko-ljeto-2024.jpg
END:VEVENT
BEGIN:VEVENT
DTSTART;VALUE=DATE:20240714
DTEND;VALUE=DATE:20240715
DTSTAMP:20260423T114606
CREATED:20240715T125047Z
LAST-MODIFIED:20240715T125047Z
UID:10328-1720915200-1721001599@tzmetkovic.hr
SUMMARY:KLAPA CAMBI
DESCRIPTION:
URL:https://tzmetkovic.hr/event/klapa-cambi/
CATEGORIES:TZMTK
ATTACH;FMTTYPE=image/jpeg:https://tzmetkovic.hr/wp-content/uploads/2024/07/Cipolijada-2024-scaled.jpg
END:VEVENT
BEGIN:VEVENT
DTSTART;VALUE=DATE:20240713
DTEND;VALUE=DATE:20240714
DTSTAMP:20260423T114606
CREATED:20240715T124836Z
LAST-MODIFIED:20240715T124836Z
UID:10319-1720828800-1720915199@tzmetkovic.hr
SUMMARY:ADI ŠOŠE
DESCRIPTION:
URL:https://tzmetkovic.hr/event/adi-sose/
CATEGORIES:TZMTK
ATTACH;FMTTYPE=image/jpeg:https://tzmetkovic.hr/wp-content/uploads/2024/07/Adi-Sose-scaled.jpg
END:VEVENT
BEGIN:VEVENT
DTSTART;VALUE=DATE:20240621
DTEND;VALUE=DATE:20240622
DTSTAMP:20260423T114606
CREATED:20240626T184551Z
LAST-MODIFIED:20240626T184551Z
UID:9798-1718928000-1719014399@tzmetkovic.hr
SUMMARY:DAN GLAZBE
DESCRIPTION:U organizaciji Ustanove za kulturu i sport Metković\, a uz potporu Grada Metkovića\, u petak\, 21. lipnja se na gradskim ulicama obilježava Svjetski dan glazbe ili Fete de la Musique\, čime će tradicionalno započeti program ovogodišnjega Metkovskoga ljeta. \nU programu će sudjelovati glazbenici\, učenici i vrtićani koji će nastupati na različitim lokacijama u gradu\, a sve u svrhu podsjećanja javnosti na važnost glazbe u svakodnevnom životu. \nProgram: \n9 sati – Osnovna glazbena škola Metković – ispred škole \n9:30 – OŠ don Mihovila Pavlinovića – ispred škole \n10 sati – OŠ Stjepana Radića – ispred škole \n10:30 – Dječji vrtić Leut – u vrtu vrtića \n11 sati – Središnji Dječji vrtić Metković – u vrtu vrtića \n19:30 – Mandolinski orkestar KUD-a Metković – Trg kralja Tomislava \n20:30 – Vinko Ćemeraš – Gradski park Metković
URL:https://tzmetkovic.hr/event/dan-glazbe/
CATEGORIES:TZMTK
ATTACH;FMTTYPE=image/jpeg:https://tzmetkovic.hr/wp-content/uploads/2024/06/Svjetski-dan-glazbe_plakat-2024-1.jpg
END:VEVENT
BEGIN:VEVENT
DTSTART;TZID=UTC:20231231T100000
DTEND;TZID=UTC:20231231T100000
DTSTAMP:20260423T114606
CREATED:20231210T124534Z
LAST-MODIFIED:20240626T182050Z
UID:5828-1704016800-1704016800@tzmetkovic.hr
SUMMARY:NEW YEAR DONATION DAY
DESCRIPTION:Doček Nove Godine u podne za djecu i odrasle uz puno iznenađenja\, poslastica i toplih napitaka uz humanitarni karakter\, zahvalu i pomoć onima kojima je najpotrebnija!
URL:https://tzmetkovic.hr/event/new-year-donation-day/
LOCATION:GRADSKI PARK\, Gradski park\, Metković\, 20350
CATEGORIES:TZMTK
ATTACH;FMTTYPE=image/jpeg:https://tzmetkovic.hr/wp-content/uploads/2024/06/162.jpg
END:VEVENT
BEGIN:VEVENT
DTSTART;TZID=UTC:20231230T203000
DTEND;TZID=UTC:20231230T203000
DTSTAMP:20260423T114606
CREATED:20231210T124305Z
LAST-MODIFIED:20240626T182106Z
UID:5822-1703968200-1703968200@tzmetkovic.hr
SUMMARY:DELTA SWAMP MUSIC
DESCRIPTION:Naš lokalni DJ Vedran Crnčević a.k.a. Vedri Tunes rasplesati će vas uz ritmove klubske glazbe u gradskom parku.
URL:https://tzmetkovic.hr/event/delta-swamp-music/
LOCATION:GRADSKI PARK\, Gradski park\, Metković\, 20350
CATEGORIES:TZMTK
ATTACH;FMTTYPE=image/jpeg:https://tzmetkovic.hr/wp-content/uploads/2024/06/163.jpg
END:VEVENT
BEGIN:VEVENT
DTSTART;TZID=UTC:20231230T150000
DTEND;TZID=UTC:20231230T150000
DTSTAMP:20260423T114606
CREATED:20231210T124229Z
LAST-MODIFIED:20240626T182117Z
UID:5820-1703948400-1703948400@tzmetkovic.hr
SUMMARY:DADO ČOKOLADO - plesna radionica Djeda Božićnjaka
DESCRIPTION:Božićna plesna priča namijenjena djeci i mladima pod vodstvom Dalibora Dominikovića\, voditelja plesne škole Calypso.
URL:https://tzmetkovic.hr/event/dado-cokolado-plesna-radionica-djeda-bozicnjaka-3/
LOCATION:TRG KRALJA TOMISLAVA\, Trg kralja Tomislava 1\, Metković\, 20350\, Croatia (Local Name: Hrvatska)
CATEGORIES:TZMTK
ATTACH;FMTTYPE=image/jpeg:https://tzmetkovic.hr/wp-content/uploads/2024/06/164.jpg
END:VEVENT
BEGIN:VEVENT
DTSTART;TZID=UTC:20231229T203000
DTEND;TZID=UTC:20231229T203000
DTSTAMP:20260423T114606
CREATED:20231210T124157Z
LAST-MODIFIED:20240626T182130Z
UID:5817-1703881800-1703881800@tzmetkovic.hr
SUMMARY:SOUL FINGERS
DESCRIPTION:Grupa Soulfingers poznata je kao vrhunska koncertna atrakcija. Koncertni spektakl Soul Fingersa obiluje energijom\, stilom\, vrhunskom scenskom estetikom i koreografijom\, uz njihov poznat kontakt s publikom\, pa je koncertni dogadjaj Soul Fingersa čarolija koja nikog ne ostavlja ravnodušnim. U svojoj uzbudljivoj\, internacionalnoj karijeri Soul fingersi su održali preko 2000 koncerata.
URL:https://tzmetkovic.hr/event/soul-fingers-2/
LOCATION:GRADSKI PARK\, Gradski park\, Metković\, 20350
CATEGORIES:TZMTK
ATTACH;FMTTYPE=image/jpeg:https://tzmetkovic.hr/wp-content/uploads/2024/06/165.jpg
END:VEVENT
BEGIN:VEVENT
DTSTART;TZID=UTC:20231228T203000
DTEND;TZID=UTC:20231228T203000
DTSTAMP:20260423T114606
CREATED:20231210T120740Z
LAST-MODIFIED:20240626T182208Z
UID:5745-1703795400-1703795400@tzmetkovic.hr
SUMMARY:IVAN VIDOVIĆ
DESCRIPTION:Ivan Vidović mladi je metkovski glazbenik javnosti poznat s glazbenog showa “Zvijezde ljetni hit”. Fokusiran na live svirke i svakodnevno muziciranje paralelno pripremajući nove skladbe. Također\, ima ekskluzivni ugovor s diskografskom kućom Croatia Records.
URL:https://tzmetkovic.hr/event/ivan-vidovic/
LOCATION:GRADSKI PARK\, Gradski park\, Metković\, 20350
CATEGORIES:TZMTK
ATTACH;FMTTYPE=image/jpeg:https://tzmetkovic.hr/wp-content/uploads/2024/06/166.jpg
END:VEVENT
BEGIN:VEVENT
DTSTART;TZID=UTC:20231228T073000
DTEND;TZID=UTC:20231228T073000
DTSTAMP:20260423T114606
CREATED:20231210T120618Z
LAST-MODIFIED:20240626T182223Z
UID:5742-1703748600-1703748600@tzmetkovic.hr
SUMMARY:BOŽIĆNO-NOVOGODIŠNJI KONCERT GRADSKE GLAZBE METKOVIĆ
DESCRIPTION:Tradicionalni koncert Gradske glazbe Metković pod dirigentskom palicom prof. Zvonke Kneževića\, mladi glazbari izvest će obrade božićnih\, ali i ostalih skladbi različitih žanrova.
URL:https://tzmetkovic.hr/event/bozicno-novogodisnji-koncert-gradske-glazbe-metkovic/
LOCATION:GKS\, Stjepana Radića 1\, Metković\, 20350
CATEGORIES:TZMTK
ATTACH;FMTTYPE=image/jpeg:https://tzmetkovic.hr/wp-content/uploads/2024/06/167.jpg
END:VEVENT
BEGIN:VEVENT
DTSTART;TZID=UTC:20231226T203000
DTEND;TZID=UTC:20231226T203000
DTSTAMP:20260423T114606
CREATED:20231210T120345Z
LAST-MODIFIED:20240626T182243Z
UID:5736-1703622600-1703622600@tzmetkovic.hr
SUMMARY:IVO JURIĆ & POSEBNA VOŽNJA
DESCRIPTION:Mostarskog glazbenika i kantautora Ivu Jurića vežu brojni nastupi pred publikom istančanog glazbenog ukusa\, a za sebe zna reći da u glavi ima nekoliko stotina pjesama koje može otpjevati i odsvirati. U međuvremenu se odlučio ozbiljnije posvetiti vlastitim pjesmama i karijeri te ostvaruje suradnju s diskografskom kućom Croatia Records.
URL:https://tzmetkovic.hr/event/ivo-juric-posebna-voznja/
LOCATION:GRADSKI PARK\, Gradski park\, Metković\, 20350
CATEGORIES:TZMTK
ATTACH;FMTTYPE=image/jpeg:https://tzmetkovic.hr/wp-content/uploads/2024/06/190-1.jpg
END:VEVENT
BEGIN:VEVENT
DTSTART;TZID=UTC:20231224T110000
DTEND;TZID=UTC:20231224T110000
DTSTAMP:20260423T114606
CREATED:20231210T123807Z
LAST-MODIFIED:20240626T182257Z
UID:5810-1703415600-1703415600@tzmetkovic.hr
SUMMARY:PALJENJE ČETVRTE ADVENTSKE SVIJEĆE
DESCRIPTION:U glazbenom dijelu programa sudjeluje KUD Metković.
URL:https://tzmetkovic.hr/event/paljenje-cetvrte-adventske-svijece/
LOCATION:TRG KRALJA TOMISLAVA\, Trg kralja Tomislava 1\, Metković\, 20350\, Croatia (Local Name: Hrvatska)
CATEGORIES:TZMTK
ATTACH;FMTTYPE=image/jpeg:https://tzmetkovic.hr/wp-content/uploads/2024/06/192.jpg
END:VEVENT
BEGIN:VEVENT
DTSTART;TZID=UTC:20231223T203000
DTEND;TZID=UTC:20231223T203000
DTSTAMP:20260423T114606
CREATED:20231210T123730Z
LAST-MODIFIED:20240626T182324Z
UID:5807-1703363400-1703363400@tzmetkovic.hr
SUMMARY:KULTURNI JOGURT
DESCRIPTION:Kulturni Jogurt je neretvanska rock banda koja sa manjim prekidima djeluje već oko 15ak godina. Glavnu okosnicu benda čine Ivan Dujmović – gitara i vokal\, Elvis Sršen – bubnjevi\, klavijatura i vokal i Ante Jurinović – bass. Ova skupina glazbenika vam neće dopustit da mirno sjedite i iscjedit će vam posljednji atom energije uz fuziju najraznovrsnijeg rock ‘n’ roll\, funk i blues repertoara.
URL:https://tzmetkovic.hr/event/kulturni-jogurt/
LOCATION:GRADSKI PARK\, Gradski park\, Metković\, 20350
CATEGORIES:TZMTK
ATTACH;FMTTYPE=image/jpeg:https://tzmetkovic.hr/wp-content/uploads/2024/06/191.jpg
END:VEVENT
BEGIN:VEVENT
DTSTART;TZID=UTC:20231222T203000
DTEND;TZID=UTC:20231222T203000
DTSTAMP:20260423T114606
CREATED:20231210T123621Z
LAST-MODIFIED:20240626T182349Z
UID:5804-1703277000-1703277000@tzmetkovic.hr
SUMMARY:ZOSTER
DESCRIPTION:Zoster je grupa iz Mostara\, osnovana 2000. godine. Do sada su objavili pet albuma koje karakteriziraju razni glazbeni žanrovi od reggae\, ska\, rock\, blues\, popa\, a kroz sve žanrove kantautor Mario Knezović\, autor glazbe\, teksta i frontmen\, poetski i prirodno je stigao do vlastitoga autentičnog izričaja\, koji je najviše obilježio grupu Zoster
URL:https://tzmetkovic.hr/event/zoster/
LOCATION:GRADSKI PARK\, Gradski park\, Metković\, 20350
CATEGORIES:TZMTK
ATTACH;FMTTYPE=image/jpeg:https://tzmetkovic.hr/wp-content/uploads/2024/06/193.jpg
END:VEVENT
BEGIN:VEVENT
DTSTART;TZID=UTC:20231221T200000
DTEND;TZID=UTC:20231221T200000
DTSTAMP:20260423T114606
CREATED:20231210T123531Z
LAST-MODIFIED:20240626T182832Z
UID:5801-1703188800-1703188800@tzmetkovic.hr
SUMMARY:DJ KOZMA
DESCRIPTION:Naš lokalni DJ Dario Protrka a.k.a. Kozma sa dugogodišnjim glazbenim iskustvom i širokom glazbenom podlogom rasplesati će vas uz ritmove klubske glazbe.
URL:https://tzmetkovic.hr/event/dj-kozma/
LOCATION:GRADSKI PARK\, Gradski park\, Metković\, 20350
CATEGORIES:TZMTK
ATTACH;FMTTYPE=image/jpeg:https://tzmetkovic.hr/wp-content/uploads/2024/06/195.jpg
END:VEVENT
BEGIN:VEVENT
DTSTART;TZID=UTC:20231220T200000
DTEND;TZID=UTC:20231220T200000
DTSTAMP:20260423T114606
CREATED:20231210T122745Z
LAST-MODIFIED:20240626T182509Z
UID:5796-1703102400-1703102400@tzmetkovic.hr
SUMMARY:DJ DIRKA
DESCRIPTION:Lokalni DJ Ivan Bebić priprema najbolje hitove koji vas pozivaju na zabavu ispred božićnih kućica.
URL:https://tzmetkovic.hr/event/dj-dirka-2/
LOCATION:GRADSKI PARK\, Gradski park\, Metković\, 20350
CATEGORIES:TZMTK
ATTACH;FMTTYPE=image/jpeg:https://tzmetkovic.hr/wp-content/uploads/2024/06/203.jpg
END:VEVENT
BEGIN:VEVENT
DTSTART;TZID=UTC:20231220T200000
DTEND;TZID=UTC:20231220T200000
DTSTAMP:20260423T114606
CREATED:20231210T122629Z
LAST-MODIFIED:20240626T182544Z
UID:5790-1703102400-1703102400@tzmetkovic.hr
SUMMARY:U SUSRET SLATKOM BOŽIĆU
DESCRIPTION:Humanitarni sajam čiji je cilj upoznati sugrađane i goste sa kolačima i slasticama koje su nekada naše bake pripremale za Božić te njihovim receptima. Uz prodaju po simboličnim cijenama\, možete se ugrijati i osladiti uz kuhani čaj\, vino\, fritule i bakalar te se fotografirati za uspomenu s Djedom Božićnjakom.
URL:https://tzmetkovic.hr/event/u-susret-slatkom-bozicu/
LOCATION:TRG KRALJA TOMISLAVA\, Trg kralja Tomislava 1\, Metković\, 20350\, Croatia (Local Name: Hrvatska)
CATEGORIES:TZMTK
ATTACH;FMTTYPE=image/jpeg:https://tzmetkovic.hr/wp-content/uploads/2024/06/192.jpg
END:VEVENT
BEGIN:VEVENT
DTSTART;TZID=UTC:20231220T190000
DTEND;TZID=UTC:20231220T190000
DTSTAMP:20260423T114606
CREATED:20231210T122714Z
LAST-MODIFIED:20240626T182624Z
UID:5793-1703098800-1703098800@tzmetkovic.hr
SUMMARY:BOŽIĆNI KONCERT OSNOVNE GLAZBENE ŠKOLE
DESCRIPTION:U organizaciji Osnovne glazbene škole na tradicionalnom Božićnom koncertu nastupit će dvadesetak učenika od I. do VI. razreda
URL:https://tzmetkovic.hr/event/bozicni-koncert-osnovne-glazbene-skole/
LOCATION:GKS\, Stjepana Radića 1\, Metković\, 20350
CATEGORIES:TZMTK
ATTACH;FMTTYPE=image/jpeg:https://tzmetkovic.hr/wp-content/uploads/2024/06/197.jpg
END:VEVENT
BEGIN:VEVENT
DTSTART;TZID=UTC:20231219T200000
DTEND;TZID=UTC:20231219T200000
DTSTAMP:20260423T114606
CREATED:20231210T122543Z
LAST-MODIFIED:20240612T175451Z
UID:5787-1703016000-1703016000@tzmetkovic.hr
SUMMARY:SLUŠAONICA - MTV HITS
DESCRIPTION:Posjetitelji Gradskog parka moći će uživati u MTV hitovima
URL:https://tzmetkovic.hr/event/slusaonica-mtv-hits/
LOCATION:GRADSKI PARK\, Gradski park\, Metković\, 20350
CATEGORIES:TZMTK
END:VEVENT
BEGIN:VEVENT
DTSTART;TZID=UTC:20231219T193000
DTEND;TZID=UTC:20231219T193000
DTSTAMP:20260423T114606
CREATED:20231210T122933Z
LAST-MODIFIED:20240612T172523Z
UID:5798-1703014200-1703014200@tzmetkovic.hr
SUMMARY:IVANA JELAČA
DESCRIPTION:Pijanistica i umjetnička voditeljica udruge\, Ivana Jelača glazbenim programom u formi klavirskog recitala ocrtava umjetničku misiju i viziju udruge. Sve ostalo je glazba koja se kroz godine razvijala kroz projekte\, koji naglasak stavljaju na ulogu klasične glazbe u povijesnim i suvremenim umjetničkim izričajima i društvenim procesima.
URL:https://tzmetkovic.hr/event/ivana-jelaca/
LOCATION:GKS\, Stjepana Radića 1\, Metković\, 20350
CATEGORIES:TZMTK
END:VEVENT
BEGIN:VEVENT
DTSTART;TZID=UTC:20231218T193000
DTEND;TZID=UTC:20231218T193000
DTSTAMP:20260423T114606
CREATED:20231210T122508Z
LAST-MODIFIED:20240612T175543Z
UID:5784-1702927800-1702927800@tzmetkovic.hr
SUMMARY:BOŽIĆNI KONCERT ZBOROVA
DESCRIPTION:U organizaciji OŠ don Mihovila Pavlinovića održat će se tradicionalni Božićni koncert zborova pod vodstvom prof. Ljupke Sršen Gutić. Nastupit će zborovi osnovnih škola don Mihovila Pavlinovića\, Stjepana Radića\, Kule Norinske\, Ploča\, Osnovne glazbene škole Metković\, Komina i Opuzena.
URL:https://tzmetkovic.hr/event/bozicni-koncert-zborova/
LOCATION:GKS\, Stjepana Radića 1\, Metković\, 20350
CATEGORIES:TZMTK
END:VEVENT
BEGIN:VEVENT
DTSTART;TZID=UTC:20231217T203000
DTEND;TZID=UTC:20231217T203000
DTSTAMP:20260423T114606
CREATED:20231210T122429Z
LAST-MODIFIED:20240626T182647Z
UID:5781-1702845000-1702845000@tzmetkovic.hr
SUMMARY:MR. GROOVE
DESCRIPTION:Pločanska ekipa koja već duže vrijeme izvodi strane hitove\, većinom 80’s i pop-rock glazbu uz klavijaturu\, saksofon i gitaru. Ante (keyboard\, sax\, vocal)\, Mario (electric guitar\, vocal) i Helena (vocal).
URL:https://tzmetkovic.hr/event/mr-groove/
LOCATION:GRADSKI PARK\, Gradski park\, Metković\, 20350
CATEGORIES:TZMTK
ATTACH;FMTTYPE=image/jpeg:https://tzmetkovic.hr/wp-content/uploads/2024/06/199.jpg
END:VEVENT
BEGIN:VEVENT
DTSTART;TZID=UTC:20231217T163000
DTEND;TZID=UTC:20231217T163000
DTSTAMP:20260423T114606
CREATED:20231210T122352Z
LAST-MODIFIED:20240626T182701Z
UID:5779-1702830600-1702830600@tzmetkovic.hr
SUMMARY:PALJENJE TREĆE ADVENTSKE SVIJEĆE
DESCRIPTION:U glazbenom dijelu programa nastupaju Središnji vrtić (Iskrice i Kockice) i dječji zbor crkve sv. Ilije.
URL:https://tzmetkovic.hr/event/paljenje-trece-adventske-svijece/
LOCATION:TRG KRALJA TOMISLAVA\, Trg kralja Tomislava 1\, Metković\, 20350\, Croatia (Local Name: Hrvatska)
CATEGORIES:TZMTK
ATTACH;FMTTYPE=image/jpeg:https://tzmetkovic.hr/wp-content/uploads/2024/06/192.jpg
END:VEVENT
BEGIN:VEVENT
DTSTART;TZID=UTC:20231216T203000
DTEND;TZID=UTC:20231216T203000
DTSTAMP:20260423T114606
CREATED:20231210T122317Z
LAST-MODIFIED:20240626T182805Z
UID:5776-1702758600-1702758600@tzmetkovic.hr
SUMMARY:BRAIN HOLIDAYS
DESCRIPTION:Brain Holidays pioniri su reggae glazbe u Hrvatskoj\, a osnovani su sad već daleke 2000. godine. Iza sebe imaju na stotine odsviranih festivalskih i samostalnih koncerata i pet studijskih albuma u izdanju Dallas Recordsa.
URL:https://tzmetkovic.hr/event/brain-holidays/
LOCATION:GRADSKI PARK\, Gradski park\, Metković\, 20350
CATEGORIES:TZMTK
ATTACH;FMTTYPE=image/jpeg:https://tzmetkovic.hr/wp-content/uploads/2024/06/201.jpg
END:VEVENT
BEGIN:VEVENT
DTSTART;TZID=UTC:20231216T193000
DTEND;TZID=UTC:20231216T193000
DTSTAMP:20260423T114606
CREATED:20231210T122226Z
LAST-MODIFIED:20240626T182853Z
UID:5773-1702755000-1702755000@tzmetkovic.hr
SUMMARY:BOŽIĆNI KONCERT KUD-a METKOVIĆ
DESCRIPTION:Tradicionalni Božićni koncert u organizaciji KUD-a Metković. Nastupit će sve folklorne skupine uz mandolinski orkestar.
URL:https://tzmetkovic.hr/event/bozicni-koncert-kud-a-metkovic/
LOCATION:GKS\, Stjepana Radića 1\, Metković\, 20350
CATEGORIES:TZMTK
ATTACH;FMTTYPE=image/jpeg:https://tzmetkovic.hr/wp-content/uploads/2024/06/200.jpg
END:VEVENT
END:VCALENDAR