BEGIN:VCALENDAR
VERSION:2.0
PRODID:-//Turistička zajednica Metković - ECPv6.10.2//NONSGML v1.0//EN
CALSCALE:GREGORIAN
METHOD:PUBLISH
X-ORIGINAL-URL:https://tzmetkovic.hr
X-WR-CALDESC:Events for Turistička zajednica Metković
REFRESH-INTERVAL;VALUE=DURATION:PT1H
X-Robots-Tag:noindex
X-PUBLISHED-TTL:PT1H
BEGIN:VTIMEZONE
TZID:UTC
BEGIN:STANDARD
TZOFFSETFROM:+0000
TZOFFSETTO:+0000
TZNAME:UTC
DTSTART:20250101T000000
END:STANDARD
END:VTIMEZONE
BEGIN:VEVENT
DTSTART;TZID=UTC:20250712T200000
DTEND;TZID=UTC:20250713T233000
DTSTAMP:20260424T192746
CREATED:20250701T094700Z
LAST-MODIFIED:20251001T094842Z
UID:10400-1752350400-1752449400@tzmetkovic.hr
SUMMARY:
DESCRIPTION:Ovog vikenda u našem gradu!\n Subota\, 21:00 – Gradski park\n Marko Škugor uživo! Ne propustite večer ispunjenu emocijama i glazbom!\n Nedjelja\, nakon Skokova u Neretvu – Gradski park\n Cipolijada uz besplatne pečene cipole!\n Uživajte u klapskoj atmosferi uz klapu Kampanel!\n Rezervirajte vikend za glazbu\, zabavu i delicije uz Neretvu!
URL:https://tzmetkovic.hr/event/10400/
LOCATION:GRADSKI PARK\, Gradski park\, Metković\, 20350
ATTACH;FMTTYPE=image/jpeg:https://tzmetkovic.hr/wp-content/uploads/2025/10/Kampanel_plakat-2025-2-scaled.jpg
END:VEVENT
BEGIN:VEVENT
DTSTART;TZID=UTC:20250718T080000
DTEND;TZID=UTC:20250720T233000
DTSTAMP:20260424T192746
CREATED:20250701T094048Z
LAST-MODIFIED:20251001T094530Z
UID:10397-1752825600-1753054200@tzmetkovic.hr
SUMMARY:Dan Grada Metkovića & blagdan sv. Ilije
DESCRIPTION:Dan Grada Metkovića & blagdan sv. Ilije\nTrg dr. Franje Tuđmana\n17. 7. u 21 h – Vojko V\n18. 7. u 21 h – Magazin\nU petak\, 18. 7. u 19 h na Skalama V – obilježavamo 150 godina od posjeta cara Franje Josipa I.\nOtkrivanje ploče na Kući Dominiković\nIzložba & nastup KUD-a Metković
URL:https://tzmetkovic.hr/event/dan-grada-metkovica-blagdan-sv-ilije/
ATTACH;FMTTYPE=image/jpeg:https://tzmetkovic.hr/wp-content/uploads/2024/06/METKOVIC-2.jpg
END:VEVENT
BEGIN:VEVENT
DTSTART;TZID=UTC:20250725T190000
DTEND;TZID=UTC:20250725T233000
DTSTAMP:20260424T192746
CREATED:20250715T093719Z
LAST-MODIFIED:20251001T094027Z
UID:10393-1753470000-1753486200@tzmetkovic.hr
SUMMARY:RIMSKA NOĆ U NARONI
DESCRIPTION:️ RIMSKA NOĆ U NARONI 2025\nPetak\, 25. srpnja\nArheološki muzej Narona\, Vid\nTema: Rimske kuharice\nOvog ljeta vraćamo se u kuhinju staru dvije tisuće godina! Pripremite nepca jer vas čeka večer puna antičkih okusa\, mirisa i priča s rimskih trpeza!\n‍ Što se jelo u doba Rimskog Carstva?\nKoji su začini vladali rimskim stolovima?\nTko su bile rimske kuharice – robinje\, dame\, znalke i eksperimentatorice?\nA ove godine spremamo i još više:\nZabavno natjecanje – pokaži svoje kulinarske vještine!\nIzložba “Ad mensam” – pogled u svakodnevicu rimskog stola\nPričaonica bajki – za naše najmlađe\, uz dozu mašte i povijesti\nPredavanje – zanimljiv uvid u svijet rimske kulinarike\nGlazba\, kostimi\, igra i puno\, puno zabave za cijelu obitelj!\nPovijest nikad nije bila ovako ukusna i zabavna!\nDođite u Naronu – gdje prošlost postaje doživljaj!\nRIMSKA NOĆ U NARONI 2025. – PROGRAM\n19:00 – 21:00 RADIONICE I IGRAONICE ZA DJECU\n19:00 – 23:00 PREZENTACIJA ANTIČKIH ZANATA\n20:00 SVEČANO OTVARANJE\n20:15 POČETAK NATJECANJA – KUHANJE JELA PREMA RIMSKOJ RECEPTURI\n20:20 PRIČAONICA MITOVA (MARIJANA CURIĆ)\n20:20 PREDAVANJE IVANE OŽANIĆ ROGULJIĆ\n20:30 – 23:00 PREZENTACIJA KLESANJA\n20:50 OTVARANJE IZLOŽBE “Ad mensam”\n21:00 MAD SUN RISES VATRENI SHOW by VODORIGE\n21:15 OCJENJIVANJE I PROGLAŠENJE POBJEDNIKA\n21:20 DEGUSTACIJA RIMSKE HRANE\n22:00 – 23:30 GLADIJATORSKE BORBE\, EGZOTIČNI PLES\, FIREShow\n23:30 ZAVRŠNI POZDRAV\nBESPLATAN PRIJEVOZ:\nZa sve posjetitelje organiziran je besplatan prijevoz Čazmatransa\nMetković -> Vid polazak s Autobusnog kolodvora u Metkoviću u 19:00 i 21:45 sati\nVid – Metković polazak s parkinga u Vidu 21:30 i 23:15 sati\nManifestacija je besplatna i otvorena za sve\, a posjetitelji su pozvani uživati u jedinstvenom spoju gastronomije\, edukacije i spektakla – pod zvijezdama\, u okruženju jednog od najvažnijih rimskih lokaliteta u Hrvatskoj.\nZbog održavanja Rimske noći u Naroni 25.7.2025. od 17 do 23:30 na prostoru Naronskog trga i Rive u Vidu je na snazi privremena prometna regulacija\, te je zatvoren promet za sva vozila\, osim vozila s dozvolom.
URL:https://tzmetkovic.hr/event/rimska-noc-u-naroni/
LOCATION:Vid\, Naronski trg 6\, Vid\, Metković\, 20352
ATTACH;FMTTYPE=image/jpeg:https://tzmetkovic.hr/wp-content/uploads/2025/10/Plakat-Rimska-noc_2025-scaled.jpg
END:VEVENT
END:VCALENDAR